BEGIN:VCALENDAR
VERSION:2.0
PRODID:-//Tukios.com/
BEGIN:VEVENT
UID:2d3dbaf7-8c8d-4d0a-9da4-462bc264ae5f@www.iviefuneralhomecommerce.com
DTSTAMP:20260425T040933Z
DTSTART:20260426T180000Z
DTEND:20260426T210000Z
SUMMARY:Visitation
DESCRIPTION:
URL:https://www.iviefuneralhomecommerce.com/obituaries/jenny-stone
LOCATION: 1053 S. Elm Street  Commerce GA 30529
GEO:34.1958014;-83.4502675
END:VEVENT
END:VCALENDAR