BEGIN:VCALENDAR
VERSION:2.0
PRODID:-//Tukios.com/
BEGIN:VEVENT
UID:16d70da7-7d11-481a-b1ae-62f34745e384@www.iviefuneralhomecommerce.com
DTSTAMP:20260425T220116Z
DTSTART:20260428T184500Z
DTEND:20260428T194500Z
SUMMARY:Interment
DESCRIPTION:
URL:https://www.iviefuneralhomecommerce.com/obituaries/james-lord
LOCATION:  Georgia 281  Danielsville GA 30633
GEO:34.1674579;-83.1658064
END:VEVENT
END:VCALENDAR