BEGIN:VCALENDAR
VERSION:2.0
PRODID:-//Tukios.com/
BEGIN:VEVENT
UID:96a876e1-75f5-45b3-b537-7c4fbc18b511@www.iviefuneralhomecommerce.com
DTSTAMP:20260425T215953Z
DTSTART:20260428T180000Z
DTEND:20260428T190000Z
SUMMARY:Funeral Service
DESCRIPTION:
URL:https://www.iviefuneralhomecommerce.com/obituaries/james-lord
LOCATION:Ivie Funeral Home 1053 S. Elm Street  Commerce GA 30529
GEO:34.1958014;-83.4502675
END:VEVENT
END:VCALENDAR