BEGIN:VCALENDAR
VERSION:2.0
PRODID:-//Tukios.com/
BEGIN:VEVENT
UID:a4a2a47d-4af9-4e41-b840-71d06696cb61@www.iviefuneralhomecommerce.com
DTSTAMP:20260425T220218Z
DTSTART:20260427T210000Z
DTEND:20260428T000000Z
SUMMARY:Visitation
DESCRIPTION:
URL:https://www.iviefuneralhomecommerce.com/obituaries/james-lord
LOCATION:Ivie Funeral Home 1053 S. Elm Street  Commerce GA 30529
GEO:34.1958014;-83.4502675
END:VEVENT
END:VCALENDAR